BEGIN:VCALENDAR
VERSION:2.0
PRODID:-//DNAdigest.org - ECPv4.4.4//NONSGML v1.0//EN
CALSCALE:GREGORIAN
METHOD:PUBLISH
X-WR-CALNAME:DNAdigest.org
X-ORIGINAL-URL:http://dnadigest.org
X-WR-CALDESC:Events for DNAdigest.org
BEGIN:VEVENT
DTSTART;VALUE=DATE:20171102
DTEND;VALUE=DATE:20171103
DTSTAMP:20170710T074504
CREATED:20170412T151320Z
LAST-MODIFIED:20170412T151500Z
UID:10066-1509580800-1509753599@dnadigest.org
SUMMARY:BioData World Congress 2017
DESCRIPTION:HARNESSING THE POWER OF BIG DATA IN PRECISION MEDICINE\n\n\nSince 2015\, DNAdigest is supporting BioData World Congress as a media partner.\n\nLook forward to interesting interviews and enjoy 10% discount for the registration. Subscribe to our newsletter or get in touch with us if you want to claim your discount.\n\n\n 
URL:http://dnadigest.org/event/biodata-world-congress-2017/
LOCATION:Hinxton\, CB10 1SA\, United Kingdom
END:VEVENT
END:VCALENDAR